BEGIN:VCALENDAR
VERSION:2.0
PRODID:-//Tukios.com/
BEGIN:VEVENT
UID:0b3b353a-f766-4172-84a1-82e03b767005@www.brownrobinsonfuneralhome.com
DTSTAMP:20260422T004203Z
DTSTART:20260425T150000Z
DTEND:20260425T160000Z
SUMMARY:Visitation
DESCRIPTION:
URL:https://www.brownrobinsonfuneralhome.com/obituaries/calvin-jeter
LOCATION:New Bethel Primitive Baptist Church 3880 Dayton Ave  Lorain OH 
	44052
GEO:41.4340358;-82.1703185
END:VEVENT
END:VCALENDAR