BEGIN:VCALENDAR
VERSION:2.0
PRODID:-//Tukios.com/
BEGIN:VEVENT
UID:bd9b9f91-a560-47ec-8ed3-861d556288c7@www.brownrobinsonfuneralhome.com
DTSTAMP:20260422T004203Z
DTSTART:20260425T160000Z
DTEND:20260425T170000Z
SUMMARY:Service
DESCRIPTION:
URL:https://www.brownrobinsonfuneralhome.com/obituaries/calvin-jeter
LOCATION: 3880 Dayton Ave  Lorain OH 44052
GEO:41.4340358;-82.1703185
END:VEVENT
END:VCALENDAR