BEGIN:VCALENDAR
VERSION:2.0
PRODID:-//Tukios.com/
BEGIN:VEVENT
UID:27695c1f-0320-4729-8c4e-7179b08953a4@www.brownrobinsonfuneralhome.com
DTSTAMP:20260420T224446Z
DTSTART:20260424T150000Z
DTEND:20260424T160000Z
SUMMARY:Visitation
DESCRIPTION:
URL:https://www.brownrobinsonfuneralhome.com/obituaries/ilene-epps
LOCATION:Brown-Robinson Funeral Home & Celebration Center 6075 Middle 
	Ridge Road  Lorain OH 44053
GEO:41.4164717;-82.1602299
END:VEVENT
END:VCALENDAR