BEGIN:VCALENDAR
VERSION:2.0
PRODID:-//Tukios.com/
BEGIN:VEVENT
UID:22aa69b2-82a5-44dd-a8a0-ce86a28d4eec@www.brownrobinsonfuneralhome.com
DTSTAMP:20260420T224434Z
DTSTART:20260424T160000Z
DTEND:20260424T170000Z
SUMMARY:Service
DESCRIPTION:
URL:https://www.brownrobinsonfuneralhome.com/obituaries/ilene-epps
LOCATION: 6075 Middle Ridge Road  Lorain OH 44053
GEO:41.4164717;-82.1602299
END:VEVENT
END:VCALENDAR