BEGIN:VCALENDAR
VERSION:2.0
PRODID:-//Tukios.com/
BEGIN:VEVENT
UID:9492614c-d29e-4491-8f7a-1aae1b8d4ba0@www.brownrobinsonfuneralhome.com
DTSTAMP:20260420T223927Z
DTSTART:20260424T150000Z
DTEND:20260424T160000Z
SUMMARY:Service
DESCRIPTION:
URL:https://www.brownrobinsonfuneralhome.com/obituaries/milton-minner
LOCATION: 1516 East 30th Street  Lorain OH 44055
GEO:41.4428503;-82.149073
END:VEVENT
END:VCALENDAR