BEGIN:VCALENDAR
VERSION:2.0
PRODID:-//Tukios.com/
BEGIN:VEVENT
UID:3d2994f3-c0a6-4ead-bfd5-4c495a65f36d@www.brownrobinsonfuneralhome.com
DTSTAMP:20260420T224534Z
DTSTART:20260424T140000Z
DTEND:20260424T150000Z
SUMMARY:Visitation
DESCRIPTION:
URL:https://www.brownrobinsonfuneralhome.com/obituaries/milton-minner
LOCATION: 1516 East 30th Street  Lorain OH 44055
GEO:41.4428503;-82.149073
END:VEVENT
END:VCALENDAR